BEGIN:VCALENDAR
VERSION:2.0
PRODID:-//CCPSL - ECPv6.9.0//NONSGML v1.0//EN
CALSCALE:GREGORIAN
METHOD:PUBLISH
X-WR-CALNAME:CCPSL
X-ORIGINAL-URL:https://ccpsl.lk
X-WR-CALDESC:Events for CCPSL
REFRESH-INTERVAL;VALUE=DURATION:PT1H
X-Robots-Tag:noindex
X-PUBLISHED-TTL:PT1H
BEGIN:VTIMEZONE
TZID:Asia/Colombo
BEGIN:STANDARD
TZOFFSETFROM:+0530
TZOFFSETTO:+0530
TZNAME:+0530
DTSTART:20230101T000000
END:STANDARD
END:VTIMEZONE
BEGIN:VEVENT
DTSTART;TZID=Asia/Colombo:20231031T121500
DTEND;TZID=Asia/Colombo:20231031T130000
DTSTAMP:20260424T141002
CREATED:20241229T185542Z
LAST-MODIFIED:20241229T185542Z
UID:6429-1698754500-1698757200@ccpsl.lk
SUMMARY:Effectiveness of school-based sexual and reproductive health education among adolescent girls in urban areas of Odisha\, India: a cluster randomized trial
DESCRIPTION:
URL:https://ccpsl.lk/event/effectiveness-of-school-based-sexual-and-reproductive-health-education-among-adolescent-girls-in-urban-areas-of-odisha-india-a-cluster-randomized-trial/
LOCATION:Online\, Sri Lanka
CATEGORIES:Journal Club
ATTACH;FMTTYPE=image/jpeg:https://ccpsl.lk/wp-content/uploads/2024/12/Journal-Club-31-10-2023-2048x1536-1.jpg
ORGANIZER;CN="College of Community Physicians of Sri Lanka":MAILTO:secretaryccpsl@gmail.com
END:VEVENT
END:VCALENDAR