BEGIN:VCALENDAR
VERSION:2.0
PRODID:-//CCPSL - ECPv6.9.0//NONSGML v1.0//EN
CALSCALE:GREGORIAN
METHOD:PUBLISH
X-WR-CALNAME:CCPSL
X-ORIGINAL-URL:https://ccpsl.lk
X-WR-CALDESC:Events for CCPSL
REFRESH-INTERVAL;VALUE=DURATION:PT1H
X-Robots-Tag:noindex
X-PUBLISHED-TTL:PT1H
BEGIN:VTIMEZONE
TZID:Asia/Colombo
BEGIN:STANDARD
TZOFFSETFROM:+0530
TZOFFSETTO:+0530
TZNAME:+0530
DTSTART:20230101T000000
END:STANDARD
END:VTIMEZONE
BEGIN:VEVENT
DTSTART;TZID=Asia/Colombo:20231212T121500
DTEND;TZID=Asia/Colombo:20231212T131500
DTSTAMP:20260424T124917
CREATED:20241229T185430Z
LAST-MODIFIED:20241229T185430Z
UID:6425-1702383300-1702386900@ccpsl.lk
SUMMARY:The economic impact of non-communicable diseases among households in South Asia and their coping strategy: A systematic review
DESCRIPTION:
URL:https://ccpsl.lk/event/the-economic-impact-of-non-communicable-diseases-among-households-in-south-asia-and-their-coping-strategy-a-systematic-review/
LOCATION:Online\, Sri Lanka
CATEGORIES:Journal Club
ATTACH;FMTTYPE=image/jpeg:https://ccpsl.lk/wp-content/uploads/2024/12/12-12-2023-Journal-Club.jpg
ORGANIZER;CN="College of Community Physicians of Sri Lanka":MAILTO:secretaryccpsl@gmail.com
END:VEVENT
END:VCALENDAR