BEGIN:VCALENDAR
VERSION:2.0
PRODID:-//CCPSL - ECPv6.9.0//NONSGML v1.0//EN
CALSCALE:GREGORIAN
METHOD:PUBLISH
X-ORIGINAL-URL:https://ccpsl.lk
X-WR-CALDESC:Events for CCPSL
REFRESH-INTERVAL;VALUE=DURATION:PT1H
X-Robots-Tag:noindex
X-PUBLISHED-TTL:PT1H
BEGIN:VTIMEZONE
TZID:Asia/Colombo
BEGIN:STANDARD
TZOFFSETFROM:+0530
TZOFFSETTO:+0530
TZNAME:+0530
DTSTART:20250101T000000
END:STANDARD
END:VTIMEZONE
BEGIN:VEVENT
DTSTART;TZID=Asia/Colombo:20250122T120000
DTEND;TZID=Asia/Colombo:20250122T130000
DTSTAMP:20260423T184810
CREATED:20250401T075154Z
LAST-MODIFIED:20250401T075154Z
UID:6789-1737547200-1737550800@ccpsl.lk
SUMMARY:Cancer Registry: Essential Tool for Cancer Control
DESCRIPTION: Join Us for an Insightful Session! The College of Community Physicians of Sri Lanka is excited to host the next Young Community Physicians’ Forum on: Cancer Registry: Essential Tool for Cancer Control Date: Wednesday\, 22nd January 2025 Time: 12:00 Noon to 1:30 PM Platform: Zoom Key Speaker:Prof. Atul Budukh\, Expert in Cancer Epidemiology and Cancer Registries Discussion Panel:Dr. Suraj Perera – Consultant Community PhysicianDr. Nuradh Joseph – Consultant Oncologist Moderator:Dr. Kasuni Atapattu Join Zoom Meeting: https://us06web.zoom.us/j/87473808064… Meeting ID: 874 7380 8064 Passcode: 659354Don’t miss this opportunity to learn from leading experts in cancer epidemiology and control. See you there!
URL:https://ccpsl.lk/event/cancer-registry-essential-tool-for-cancer-control/
LOCATION:Online\, Sri Lanka
CATEGORIES:Young Community Physicians Forum
ATTACH;FMTTYPE=image/jpeg:https://ccpsl.lk/wp-content/uploads/2025/04/481124264_968013275417319_4383881795711603291_n.jpg
ORGANIZER;CN="College of Community Physicians of Sri Lanka":MAILTO:secretaryccpsl@gmail.com
END:VEVENT
END:VCALENDAR