BEGIN:VCALENDAR
VERSION:2.0
PRODID:-//CCPSL - ECPv6.9.0//NONSGML v1.0//EN
CALSCALE:GREGORIAN
METHOD:PUBLISH
X-WR-CALNAME:CCPSL
X-ORIGINAL-URL:https://ccpsl.lk
X-WR-CALDESC:Events for CCPSL
REFRESH-INTERVAL;VALUE=DURATION:PT1H
X-Robots-Tag:noindex
X-PUBLISHED-TTL:PT1H
BEGIN:VTIMEZONE
TZID:Asia/Colombo
BEGIN:STANDARD
TZOFFSETFROM:+0530
TZOFFSETTO:+0530
TZNAME:+0530
DTSTART:20250101T000000
END:STANDARD
END:VTIMEZONE
BEGIN:VEVENT
DTSTART;TZID=Asia/Colombo:20250131T080000
DTEND;TZID=Asia/Colombo:20250131T160000
DTSTAMP:20260423T172542
CREATED:20250401T074553Z
LAST-MODIFIED:20250401T074553Z
UID:6775-1738310400-1738339200@ccpsl.lk
SUMMARY:Manuscript Writing Workshop
DESCRIPTION:🖋️📚 Join the Manuscript Writing Workshop! 📚🖋️ \n🔖 Date: 31st January 2025 (Friday)📍 Venue: Auditorium\, Family Health Bureau\, 231 De Saram Place\, Colombo 10⏰ Time: 8:00 AM – 4:00 PM \nWorkshop Highlights: \n\n\nFundamentals of Manuscript Writing \n\n\nAvoiding Common Pitfalls and Ensuring Quality \n\n\nSelecting a Journal and Preparing for Submission \n\n\nTools and Software for Efficient Manuscript Writing \n\n\n💡 This workshop is open to professionals from both Medical and Dental fields\, including: \n\n\nConsultants (any specialty) \n\n\nUniversity Lecturers \n\n\nPGIM Trainees \n\n\nMedical and Dental Practitioners \n\n\n📜 Certificate of Participation will be provided. \n💵 Course Fee: LKR 2500 (Includes Morning Tea & Lunch) \n🔗 Register Now:Click here to register \n🖧 Payment Details:Bank: BOC Borella\, Super Grade BranchAccount Name: College of Community Dentistry of Sri LankaAccount No: 0000193443 \n📞 For more info\, contact:Dr. Buddhika Maheesh: 0772618059Dr. Nimali Wellappuli: 0772096448 \n#ManuscriptWriting #ResearchSkills #AcademicWriting #PublicHealth #MedicalProfessionals #Workshop #CPD
URL:https://ccpsl.lk/event/manuscript-writing-workshop/
LOCATION:Family Health Bureau\, Sri Lanka\, No. 231\, De Saram Place\, Colombo 01000.\, Colombo\, Western\, 00010\, Sri Lanka
CATEGORIES:Other Academic Activities
ATTACH;FMTTYPE=image/jpeg:https://ccpsl.lk/wp-content/uploads/2025/04/481455664_970107328541247_7788399880894279304_n.jpg
ORGANIZER;CN="College of Community Physicians of Sri Lanka":MAILTO:secretaryccpsl@gmail.com
END:VEVENT
END:VCALENDAR