BEGIN:VCALENDAR
VERSION:2.0
PRODID:-//CCPSL - ECPv6.9.0//NONSGML v1.0//EN
CALSCALE:GREGORIAN
METHOD:PUBLISH
X-WR-CALNAME:CCPSL
X-ORIGINAL-URL:https://ccpsl.lk
X-WR-CALDESC:Events for CCPSL
REFRESH-INTERVAL;VALUE=DURATION:PT1H
X-Robots-Tag:noindex
X-PUBLISHED-TTL:PT1H
BEGIN:VTIMEZONE
TZID:Asia/Colombo
BEGIN:STANDARD
TZOFFSETFROM:+0530
TZOFFSETTO:+0530
TZNAME:+0530
DTSTART:20250101T000000
END:STANDARD
END:VTIMEZONE
BEGIN:VEVENT
DTSTART;TZID=Asia/Colombo:20250211T123000
DTEND;TZID=Asia/Colombo:20250211T133000
DTSTAMP:20260423T171531
CREATED:20250401T074020Z
LAST-MODIFIED:20250401T074020Z
UID:6771-1739277000-1739280600@ccpsl.lk
SUMMARY:Inspiring Action: Bridging Public Health Strategies and Clinical Care for Childhood and Adolescent Cancer
DESCRIPTION:The College of Community Physicians of Sri Lanka\, in collaboration with the Provincial Directorate of Health Services\, Western Province\, is pleased to invite you to an insightful webinar:\n\n\nTopic: Inspiring Action: Bridging Public Health Strategies and Clinical Care for Childhood and Adolescent Cancer\n\n\nDate: February 11\, 2025\n\n\nTime: 12:30 PM – 1:30 PM\n\n\nMode: Online (Zoom)\n\n\nLink: https://us06web.zoom.us/j/89523306313…\n\n\nMeeting ID: 895 2330 6313\n\n\nPasscode: 899813\n\n\nThis session will feature two distinguished speakers:\n\n\nDr. Suraj Perera\, Consultant Community Physician\, National Cancer Control Programme\nDr. Sanjeeva Gunasekera\, Consultant Paediatric Oncologist\, National Cancer Institute\, Maharagama\nThe webinar aims to enhance the capacity of public health and clinical staff by exploring innovative strategies that connect public health approaches with clinical care\, with a special focus on the well-being of children and adolescents with cancer. This is a wonderful opportunity to engage with experts\, gain valuable insights\, and strengthen skills for impactful interventions in public health and clinical practice.\n\n\nJoin us for this inspiring session!
URL:https://ccpsl.lk/event/inspiring-action-bridging-public-health-strategies-and-clinical-care-for-childhood-and-adolescent-cancer/
LOCATION:Online\, Sri Lanka
CATEGORIES:Public Webinar
ATTACH;FMTTYPE=image/jpeg:https://ccpsl.lk/wp-content/uploads/2025/04/482348425_974646824753964_4365499786143571430_n.jpg
ORGANIZER;CN="College of Community Physicians of Sri Lanka":MAILTO:secretaryccpsl@gmail.com
END:VEVENT
END:VCALENDAR