BEGIN:VCALENDAR
VERSION:2.0
PRODID:-//CCPSL - ECPv6.9.0//NONSGML v1.0//EN
CALSCALE:GREGORIAN
METHOD:PUBLISH
X-WR-CALNAME:CCPSL
X-ORIGINAL-URL:https://ccpsl.lk
X-WR-CALDESC:Events for CCPSL
REFRESH-INTERVAL;VALUE=DURATION:PT1H
X-Robots-Tag:noindex
X-PUBLISHED-TTL:PT1H
BEGIN:VTIMEZONE
TZID:Asia/Colombo
BEGIN:STANDARD
TZOFFSETFROM:+0530
TZOFFSETTO:+0530
TZNAME:+0530
DTSTART:20250101T000000
END:STANDARD
END:VTIMEZONE
BEGIN:VEVENT
DTSTART;TZID=Asia/Colombo:20250219T123000
DTEND;TZID=Asia/Colombo:20250219T140000
DTSTAMP:20260423T171455
CREATED:20250401T065442Z
LAST-MODIFIED:20250401T065510Z
UID:6762-1739968200-1739973600@ccpsl.lk
SUMMARY:Updates on Dengue Control
DESCRIPTION:The College of Community Physicians of Sri Lanka invites you to the upcoming Young Community Physicians’ Forum on Updates on Dengue Control. This session will provide valuable insights from leading experts in the field. Date: 19th February 2025 Time: 12:30 PM – 2:00 PM Venue: Online via Zoom Resource Persons:Dr. Jagath Amarasekara – Consultant Community Physician\, National Dengue Control UnitDr. Niranjala Perera – Consultant Community Physician\, Provincial Epidemiologist\, Western ProvinceDr. P. K Buddhika Mahesh – Consultant Community Physician\, Regional Epidemiologist\, RDHS ColomboMs. O. A. Ayesha – Entomologist\, RDHS Colombo Join Zoom Meeting: https://us06web.zoom.us/j/81307229923… Meeting ID: 813 0722 9923 Passcode: 336349This programme is accredited by the Education\, Training and Research Unit of the Ministry of Health and will award 1.5 CPD points upon completion
URL:https://ccpsl.lk/event/updates-on-dengue-control/
LOCATION:Online\, Sri Lanka
CATEGORIES:Young Community Physicians Forum
ATTACH;FMTTYPE=image/jpeg:https://ccpsl.lk/wp-content/uploads/2025/04/484697628_979714867580493_1273176038271300728_n.jpg
ORGANIZER;CN="College of Community Physicians of Sri Lanka":MAILTO:secretaryccpsl@gmail.com
END:VEVENT
END:VCALENDAR