BEGIN:VCALENDAR
VERSION:2.0
PRODID:-//CCPSL - ECPv6.9.0//NONSGML v1.0//EN
CALSCALE:GREGORIAN
METHOD:PUBLISH
X-WR-CALNAME:CCPSL
X-ORIGINAL-URL:https://ccpsl.lk
X-WR-CALDESC:Events for CCPSL
REFRESH-INTERVAL;VALUE=DURATION:PT1H
X-Robots-Tag:noindex
X-PUBLISHED-TTL:PT1H
BEGIN:VTIMEZONE
TZID:Asia/Colombo
BEGIN:STANDARD
TZOFFSETFROM:+0530
TZOFFSETTO:+0530
TZNAME:+0530
DTSTART:20220101T000000
END:STANDARD
END:VTIMEZONE
BEGIN:VEVENT
DTSTART;TZID=Asia/Colombo:20221117T001500
DTEND;TZID=Asia/Colombo:20221117T001500
DTSTAMP:20260425T194302
CREATED:20241229T190328Z
LAST-MODIFIED:20241229T191159Z
UID:6446-1668644100-1668644100@ccpsl.lk
SUMMARY:Efficacy of a tetravalent dengue vaccine in healthy children aged 4-16 years: a randomised\, placebo-controlled\, phase 3 trial
DESCRIPTION:
URL:https://ccpsl.lk/event/efficacy-of-a-tetravalent-dengue-vaccine-in-healthy-children-aged-4-16-years-a-randomised-placebo-controlled-phase-3-trial/
LOCATION:Online\, Sri Lanka
CATEGORIES:Journal Club
ATTACH;FMTTYPE=image/jpeg:https://ccpsl.lk/wp-content/uploads/2024/12/2022.11.17-Journal-Club.jpeg
ORGANIZER;CN="College of Community Physicians of Sri Lanka":MAILTO:secretaryccpsl@gmail.com
END:VEVENT
END:VCALENDAR