BEGIN:VCALENDAR
VERSION:2.0
PRODID:-//CCPSL - ECPv6.9.0//NONSGML v1.0//EN
CALSCALE:GREGORIAN
METHOD:PUBLISH
X-ORIGINAL-URL:https://ccpsl.lk
X-WR-CALDESC:Events for CCPSL
REFRESH-INTERVAL;VALUE=DURATION:PT1H
X-Robots-Tag:noindex
X-PUBLISHED-TTL:PT1H
BEGIN:VTIMEZONE
TZID:Asia/Colombo
BEGIN:STANDARD
TZOFFSETFROM:+0530
TZOFFSETTO:+0530
TZNAME:+0530
DTSTART:20250101T000000
END:STANDARD
END:VTIMEZONE
BEGIN:VEVENT
DTSTART;TZID=Asia/Colombo:20250108T120000
DTEND;TZID=Asia/Colombo:20250108T133000
DTSTAMP:20260422T055508
CREATED:20250401T075804Z
LAST-MODIFIED:20250401T075804Z
UID:6795-1736337600-1736343000@ccpsl.lk
SUMMARY:Time to publication for results of clinical trials
DESCRIPTION:CCPSL Journal Club – January 2025  Join us for an engaging session on:“Time to publication for results of clinical trials” Date: Wednesday\, 8th January 2025 Time: 12:00 noon to 1:30 PM Mode: Online via Zoom Presenters:Dr. Dineshan RanasingheDr. Thathsara Weerathunge Review Panel:Prof. Nuwan D. WickramasingheDr. Yasasvi N. WalpitaPeer Reviewer: Dr. Indumini Gunatilake How to Join: Link: https://us02web.zoom.us/j/86583530257…Meeting ID: 865 8353 0257Passcode: 679978You can also access the article and meeting link by scanning the QR codes in the flyer! This program is accredited by the Education\, Training\, and Research Unit of the Ministry of Health and awards 0.5 CPD points upon completion. Don’t miss this opportunity to learn and engage with experts in the field
URL:https://ccpsl.lk/event/time-to-publication-for-results-of-clinical-trials/
LOCATION:Online\, Sri Lanka
CATEGORIES:Journal Club
ATTACH;FMTTYPE=image/jpeg:https://ccpsl.lk/wp-content/uploads/2025/04/481072997_966616018890378_7147487243137474588_n.jpg
ORGANIZER;CN="College of Community Physicians of Sri Lanka":MAILTO:secretaryccpsl@gmail.com
END:VEVENT
END:VCALENDAR