BEGIN:VCALENDAR
VERSION:2.0
PRODID:-//CCPSL - ECPv6.9.0//NONSGML v1.0//EN
CALSCALE:GREGORIAN
METHOD:PUBLISH
X-ORIGINAL-URL:https://ccpsl.lk
X-WR-CALDESC:Events for CCPSL
REFRESH-INTERVAL;VALUE=DURATION:PT1H
X-Robots-Tag:noindex
X-PUBLISHED-TTL:PT1H
BEGIN:VTIMEZONE
TZID:Asia/Colombo
BEGIN:STANDARD
TZOFFSETFROM:+0530
TZOFFSETTO:+0530
TZNAME:+0530
DTSTART:20220101T000000
END:STANDARD
END:VTIMEZONE
BEGIN:VEVENT
DTSTART;TZID=Asia/Colombo:20250326T120000
DTEND;TZID=Asia/Colombo:20250326T130000
DTSTAMP:20260421T151812
CREATED:20250401T044536Z
LAST-MODIFIED:20250401T044536Z
UID:6723-1742990400-1742994000@ccpsl.lk
SUMMARY:Health Legislation CPD session
DESCRIPTION:We are pleased to invite you to an insightful CPD session organized by the College of Community Physicians of Sri Lanka on the theme of Health Legislation. Topic:Sri Lanka Code for the Promotion\, Protection and Support of Breastfeeding\, and Marketing of Designated Products: Beyond the Legal and Moral Responsibilities Speaker:Dr. Prabath RanasingheMBBS\, MSc\, MD (Community Medicine)Consultant Community PhysicianProvincial Department of Health Services\, Central Province Moderator:Dr. Dakshila GalappattiRegistrar in Community Medicine Date: Tuesday\, 26 March 2025 Time: 12:00 PM – 1:00 PM Join via Zoom: https://us06web.zoom.us/j/85834999966… Meeting ID: 858 3499 9966 Passcode: 082586 Language: English Accreditation: 1 CPD point will be awarded upon completion by the Education\, Training and Research Unit\, Ministry of Health.This session will explore the vital legal and ethical frameworks supporting breastfeeding and the regulation of marketing practices around designated products. Please find the flyer attached.We highly encourage your participation in this important discussion
URL:https://ccpsl.lk/event/health-legislation-cpd-session/
LOCATION:Online\, Sri Lanka
CATEGORIES:Public Webinar
ATTACH;FMTTYPE=image/jpeg:https://ccpsl.lk/wp-content/uploads/2025/04/486330053_983909533827693_570714034901052615_n.jpg
ORGANIZER;CN="College of Community Physicians of Sri Lanka":MAILTO:secretaryccpsl@gmail.com
END:VEVENT
BEGIN:VEVENT
DTSTART;TZID=Asia/Colombo:20250305T121500
DTEND;TZID=Asia/Colombo:20250305T131500
DTSTAMP:20260421T151812
CREATED:20250401T064039Z
LAST-MODIFIED:20250401T064040Z
UID:6750-1741176900-1741180500@ccpsl.lk
SUMMARY:Updates on Chikungunya
DESCRIPTION:We are pleased to invite you to an upcoming educational webinar on “Updates on Chikungunya”\, organized by the CCPSL in collaboration with the Epidemiology Unit.Event Details: Date: 5th March 2025 Time: 12.15 PM – 1.15 PM (IST) Medium: English Online via Zoom Zoom Link: https://us06web.zoom.us/j/82714982244…Speakers: Dr. Chinthana Perera – Consultant Epidemiologist\, Epidemiology Unit\, Ministry of Health Dr. Dhamari Naidoo – Public Health Laboratory Scientist\, Health Emergencies Programme\, WHO SEARO Dr. Suranga Manilgama – Consultant Physician\, National Institute of Infectious Diseases Meeting ID: 827 1498 2244 Passcode: 515506This session is part of our ongoing educational programme aimed at enhancing the knowledge of healthcare professionals on timely public health topics.We look forward to your participation in this insightful discussion!
URL:https://ccpsl.lk/event/updates-on-chikungunya/
LOCATION:Online\, Sri Lanka
CATEGORIES:Public Webinar
ATTACH;FMTTYPE=image/jpeg:https://ccpsl.lk/wp-content/uploads/2025/04/481256745_969289335289713_1818827621651412091_n.jpg
ORGANIZER;CN="College of Community Physicians of Sri Lanka":MAILTO:secretaryccpsl@gmail.com
END:VEVENT
BEGIN:VEVENT
DTSTART;TZID=Asia/Colombo:20250211T123000
DTEND;TZID=Asia/Colombo:20250211T133000
DTSTAMP:20260421T151812
CREATED:20250401T074020Z
LAST-MODIFIED:20250401T074020Z
UID:6771-1739277000-1739280600@ccpsl.lk
SUMMARY:Inspiring Action: Bridging Public Health Strategies and Clinical Care for Childhood and Adolescent Cancer
DESCRIPTION:The College of Community Physicians of Sri Lanka\, in collaboration with the Provincial Directorate of Health Services\, Western Province\, is pleased to invite you to an insightful webinar:\n\n\nTopic: Inspiring Action: Bridging Public Health Strategies and Clinical Care for Childhood and Adolescent Cancer\n\n\nDate: February 11\, 2025\n\n\nTime: 12:30 PM – 1:30 PM\n\n\nMode: Online (Zoom)\n\n\nLink: https://us06web.zoom.us/j/89523306313…\n\n\nMeeting ID: 895 2330 6313\n\n\nPasscode: 899813\n\n\nThis session will feature two distinguished speakers:\n\n\nDr. Suraj Perera\, Consultant Community Physician\, National Cancer Control Programme\nDr. Sanjeeva Gunasekera\, Consultant Paediatric Oncologist\, National Cancer Institute\, Maharagama\nThe webinar aims to enhance the capacity of public health and clinical staff by exploring innovative strategies that connect public health approaches with clinical care\, with a special focus on the well-being of children and adolescents with cancer. This is a wonderful opportunity to engage with experts\, gain valuable insights\, and strengthen skills for impactful interventions in public health and clinical practice.\n\n\nJoin us for this inspiring session!
URL:https://ccpsl.lk/event/inspiring-action-bridging-public-health-strategies-and-clinical-care-for-childhood-and-adolescent-cancer/
LOCATION:Online\, Sri Lanka
CATEGORIES:Public Webinar
ATTACH;FMTTYPE=image/jpeg:https://ccpsl.lk/wp-content/uploads/2025/04/482348425_974646824753964_4365499786143571430_n.jpg
ORGANIZER;CN="College of Community Physicians of Sri Lanka":MAILTO:secretaryccpsl@gmail.com
END:VEVENT
BEGIN:VEVENT
DTSTART;TZID=Asia/Colombo:20250129T120000
DTEND;TZID=Asia/Colombo:20250129T130000
DTSTAMP:20260421T151812
CREATED:20250401T075031Z
LAST-MODIFIED:20250401T075031Z
UID:6786-1738152000-1738155600@ccpsl.lk
SUMMARY:Briefing on International Health Regulations
DESCRIPTION:Join Us for an Important Educational Webinar!\n\n\n Organized by the College of Community Physicians of Sri Lanka (CCPSL).\n\n\nTopic: Briefing on International Health Regulations\n\n\nSpeaker: Dr. Dilhani S. Samarasekera\nConsultant Community Physician\nQuarantine unit\, Ministry of Health\n\n\nModerator:\n\n\nDr. Kasuni Atapattu\nRegistrar in Community Medicine\n\n\n Date: 29th January 2025\n\n\n Time: 12:00 PM – 1:00 PM\n\n\n Platform:Zoom\n\n\nTime: Jan 22\, 2025 12:00 PM Mumbai\, Kolkata\, New Delhi\n\n\nJoin Zoom Meeting\n\n\nhttps://us06web.zoom.us/j/84702188968…\n\n\nThis programme is accredited by the Education\, Training and Research Unit of the Ministry of Health and award 1 CPD point upon completion\n\n\nMeeting ID: 847 0218 8968\nPasscode: 443044\n\n\n Don’t miss this opportunity to enhance your knowledge on International health regulations!\n\n\nWe look forward to your participation!
URL:https://ccpsl.lk/event/briefing-on-international-health-regulations/
LOCATION:Online\, Sri Lanka
CATEGORIES:Public Webinar
ATTACH;FMTTYPE=image/jpeg:https://ccpsl.lk/wp-content/uploads/2025/04/481085675_968600748691905_5748493393905317425_n.jpg
ORGANIZER;CN="College of Community Physicians of Sri Lanka":MAILTO:secretaryccpsl@gmail.com
END:VEVENT
BEGIN:VEVENT
DTSTART;TZID=Asia/Colombo:20250115T123000
DTEND;TZID=Asia/Colombo:20250115T133000
DTSTAMP:20260421T151812
CREATED:20250401T075647Z
LAST-MODIFIED:20250401T075647Z
UID:6792-1736944200-1736947800@ccpsl.lk
SUMMARY:
DESCRIPTION:🌸 Empowering Women’s Health: Prevention\, Early Detection & Services for Breast and Cervical Cancer 🌸 \nJoin us for an informative session on women’s health with experts in the field! \nDate: 15th January 2025🕛 Time: 12:30 PM – 1:30 PM📍 Virtual Session via Zoom🔑 Meeting ID: 857 0314 8743🔐 Passcode: 968517 \n🎤 Presenters: \n\n\nDr. Hasarali Fernando (Consultant Community Physician\, National Cancer Control Programme) \n\n\nDr. Nadeeja Herath (Consultant Community Physician\, Well Woman Programme and Men’s Health Unit\, Family Health Bureau) \n\n\n💡 Key Topics: \n\n\nPrevention of breast and cervical cancer \n\n\nEarly detection and available services for women \n\n\n📝 Don’t miss out on this valuable session dedicated to empowering women through health awareness! \n📞 For more details\, contact:Dr. Kanchana: 0718547442 \n#WomensHealth #CancerPrevention #EarlyDetection #BreastCancer #CervicalCancer #HealthAwareness #CommunityPhysicians #PublicHealth
URL:https://ccpsl.lk/event/6792/
LOCATION:Online\, Sri Lanka
CATEGORIES:Public Webinar
ATTACH;FMTTYPE=image/jpeg:https://ccpsl.lk/wp-content/uploads/2025/04/481704638_968012482084065_6963895189799529773_n.jpg
ORGANIZER;CN="College of Community Physicians of Sri Lanka":MAILTO:secretaryccpsl@gmail.com
END:VEVENT
BEGIN:VEVENT
DTSTART;TZID=Asia/Colombo:20240728T190000
DTEND;TZID=Asia/Colombo:20240728T200000
DTSTAMP:20260421T151812
CREATED:20241229T140407Z
LAST-MODIFIED:20241231T200115Z
UID:6306-1722193200-1722196800@ccpsl.lk
SUMMARY:Webinar on Dementia
DESCRIPTION:
URL:https://ccpsl.lk/event/webinar-on-dementia/
LOCATION:Online\, Sri Lanka
CATEGORIES:Public Webinar
ATTACH;FMTTYPE=image/jpeg:https://ccpsl.lk/wp-content/uploads/2024/12/452764771_820510000167648_7207467735134301613_n.jpg
ORGANIZER;CN="College of Community Physicians of Sri Lanka":MAILTO:secretaryccpsl@gmail.com
END:VEVENT
BEGIN:VEVENT
DTSTART;TZID=Asia/Colombo:20240714T190000
DTEND;TZID=Asia/Colombo:20240714T200000
DTSTAMP:20260421T151812
CREATED:20241229T173857Z
LAST-MODIFIED:20241229T173857Z
UID:6318-1720983600-1720987200@ccpsl.lk
SUMMARY:Webinar on Household Air Pollution & Health Effects
DESCRIPTION:
URL:https://ccpsl.lk/event/webinar-on-household-air-pollution-health-effects/
LOCATION:Online\, Sri Lanka
CATEGORIES:Public Webinar
ATTACH;FMTTYPE=image/png:https://ccpsl.lk/wp-content/uploads/2024/12/image-1.png
ORGANIZER;CN="College of Community Physicians of Sri Lanka":MAILTO:secretaryccpsl@gmail.com
END:VEVENT
BEGIN:VEVENT
DTSTART;TZID=Asia/Colombo:20240630T190000
DTEND;TZID=Asia/Colombo:20240630T200000
DTSTAMP:20260421T151812
CREATED:20241229T174247Z
LAST-MODIFIED:20241229T174247Z
UID:6323-1719774000-1719777600@ccpsl.lk
SUMMARY:Webinar on Selection of Food & Nutrition
DESCRIPTION:
URL:https://ccpsl.lk/event/webinar-on-selection-of-food-nutrition/
LOCATION:Online\, Sri Lanka
CATEGORIES:Public Webinar
ATTACH;FMTTYPE=image/jpeg:https://ccpsl.lk/wp-content/uploads/2024/12/WhatsApp-Image-2024-06-28-at-17.59.13_e196519d.jpg
ORGANIZER;CN="College of Community Physicians of Sri Lanka":MAILTO:secretaryccpsl@gmail.com
END:VEVENT
BEGIN:VEVENT
DTSTART;TZID=Asia/Colombo:20240605T120000
DTEND;TZID=Asia/Colombo:20240605T130000
DTSTAMP:20260421T151812
CREATED:20241229T174603Z
LAST-MODIFIED:20241229T174603Z
UID:6329-1717588800-1717592400@ccpsl.lk
SUMMARY:Webinar & Media briefing on Disease & Injury Prevention Amidst Adverse Weather Events
DESCRIPTION:
URL:https://ccpsl.lk/event/webinar-media-briefing-on-disease-injury-prevention-amidst-adverse-weather-events/
LOCATION:Online\, Sri Lanka
CATEGORIES:Public Webinar
ATTACH;FMTTYPE=image/jpeg:https://ccpsl.lk/wp-content/uploads/2024/12/WhatsApp-Image-2024-06-04-at-23.39.26_c2c927d5-1536x1151-1.jpg
ORGANIZER;CN="College of Community Physicians of Sri Lanka":MAILTO:secretaryccpsl@gmail.com
END:VEVENT
BEGIN:VEVENT
DTSTART;TZID=Asia/Colombo:20240105T190000
DTEND;TZID=Asia/Colombo:20240105T200000
DTSTAMP:20260421T151812
CREATED:20241229T174844Z
LAST-MODIFIED:20241229T174844Z
UID:6334-1704481200-1704484800@ccpsl.lk
SUMMARY:Webinar on MMR Supplementary Immunization Activity (SIA)
DESCRIPTION:
URL:https://ccpsl.lk/event/webinar-on-mmr-supplementary-immunization-activity-sia/
LOCATION:Online\, Sri Lanka
CATEGORIES:Public Webinar
ATTACH;FMTTYPE=image/jpeg:https://ccpsl.lk/wp-content/uploads/2024/12/ed4f3334-61de-4ded-a6c9-962b5858ad1c.jpg
ORGANIZER;CN="College of Community Physicians of Sri Lanka":MAILTO:secretaryccpsl@gmail.com
END:VEVENT
BEGIN:VEVENT
DTSTART;TZID=Asia/Colombo:20230528T193000
DTEND;TZID=Asia/Colombo:20230528T203000
DTSTAMP:20260421T151812
CREATED:20241229T175059Z
LAST-MODIFIED:20241229T175119Z
UID:6339-1685302200-1685305800@ccpsl.lk
SUMMARY:Webinar on Current Dengue situation in Sri Lanka
DESCRIPTION:
URL:https://ccpsl.lk/event/webinar-on-current-dengue-situation-in-sri-lanka/
LOCATION:Online\, Sri Lanka
CATEGORIES:Public Webinar
ATTACH;FMTTYPE=image/jpeg:https://ccpsl.lk/wp-content/uploads/2024/12/Dengue-English-1536x1291-1.jpg
ORGANIZER;CN="College of Community Physicians of Sri Lanka":MAILTO:secretaryccpsl@gmail.com
END:VEVENT
BEGIN:VEVENT
DTSTART;TZID=Asia/Colombo:20230423T193000
DTEND;TZID=Asia/Colombo:20230423T203000
DTSTAMP:20260421T151812
CREATED:20241229T175311Z
LAST-MODIFIED:20241229T175311Z
UID:6344-1682278200-1682281800@ccpsl.lk
SUMMARY:Webinar on Heat Waves and Health Effects
DESCRIPTION:
URL:https://ccpsl.lk/event/webinar-on-heat-waves-and-health-effects/
LOCATION:Online\, Sri Lanka
CATEGORIES:Public Webinar
ATTACH;FMTTYPE=image/jpeg:https://ccpsl.lk/wp-content/uploads/2024/12/Webinar-2023.04.23-E.jpg
ORGANIZER;CN="College of Community Physicians of Sri Lanka":MAILTO:secretaryccpsl@gmail.com
END:VEVENT
BEGIN:VEVENT
DTSTART;TZID=Asia/Colombo:20230110T190000
DTEND;TZID=Asia/Colombo:20230110T200000
DTSTAMP:20260421T151812
CREATED:20241229T175533Z
LAST-MODIFIED:20241229T175533Z
UID:6350-1673377200-1673380800@ccpsl.lk
SUMMARY:Webinar on COVID 19
DESCRIPTION:
URL:https://ccpsl.lk/event/webinar-on-covid-19/
LOCATION:Online\, Sri Lanka
CATEGORIES:Public Webinar
ATTACH;FMTTYPE=image/jpeg:https://ccpsl.lk/wp-content/uploads/2024/12/2023.01.10-Webinar-Covid-19-E.jpeg
ORGANIZER;CN="College of Community Physicians of Sri Lanka":MAILTO:secretaryccpsl@gmail.com
END:VEVENT
BEGIN:VEVENT
DTSTART;TZID=Asia/Colombo:20221211T190000
DTEND;TZID=Asia/Colombo:20221211T200000
DTSTAMP:20260421T151812
CREATED:20241229T175903Z
LAST-MODIFIED:20241229T175903Z
UID:6356-1670785200-1670788800@ccpsl.lk
SUMMARY:Webinar on Air Pollution
DESCRIPTION:
URL:https://ccpsl.lk/event/webinar-on-air-pollution/
LOCATION:Online\, Sri Lanka
CATEGORIES:Public Webinar
ATTACH;FMTTYPE=image/jpeg:https://ccpsl.lk/wp-content/uploads/2024/12/2022.12.11-Webinar-Air-Pollution-E.jpg
ORGANIZER;CN="College of Community Physicians of Sri Lanka":MAILTO:secretaryccpsl@gmail.com
END:VEVENT
BEGIN:VEVENT
DTSTART;TZID=Asia/Colombo:20221107T193000
DTEND;TZID=Asia/Colombo:20221107T203000
DTSTAMP:20260421T151812
CREATED:20241229T180053Z
LAST-MODIFIED:20241229T180053Z
UID:6362-1667849400-1667853000@ccpsl.lk
SUMMARY:Webinar on Monkey Pox
DESCRIPTION:
URL:https://ccpsl.lk/event/webinar-on-monkey-pox/
LOCATION:Online\, Sri Lanka
CATEGORIES:Public Webinar
ATTACH;FMTTYPE=image/jpeg:https://ccpsl.lk/wp-content/uploads/2024/12/2022.11.07-Webinar-Monkey-Pox.jpeg
ORGANIZER;CN="College of Community Physicians of Sri Lanka":MAILTO:secretaryccpsl@gmail.com
END:VEVENT
END:VCALENDAR