BEGIN:VCALENDAR
VERSION:2.0
PRODID:-//CCPSL - ECPv6.9.0//NONSGML v1.0//EN
CALSCALE:GREGORIAN
METHOD:PUBLISH
X-WR-CALNAME:CCPSL
X-ORIGINAL-URL:https://ccpsl.lk
X-WR-CALDESC:Events for CCPSL
REFRESH-INTERVAL;VALUE=DURATION:PT1H
X-Robots-Tag:noindex
X-PUBLISHED-TTL:PT1H
BEGIN:VTIMEZONE
TZID:Asia/Colombo
BEGIN:STANDARD
TZOFFSETFROM:+0530
TZOFFSETTO:+0530
TZNAME:+0530
DTSTART:20240101T000000
END:STANDARD
END:VTIMEZONE
BEGIN:VEVENT
DTSTART;TZID=Asia/Colombo:20240105T190000
DTEND;TZID=Asia/Colombo:20240105T200000
DTSTAMP:20260424T100125
CREATED:20241229T174844Z
LAST-MODIFIED:20241229T174844Z
UID:6334-1704481200-1704484800@ccpsl.lk
SUMMARY:Webinar on MMR Supplementary Immunization Activity (SIA)
DESCRIPTION:
URL:https://ccpsl.lk/event/webinar-on-mmr-supplementary-immunization-activity-sia/
LOCATION:Online\, Sri Lanka
CATEGORIES:Public Webinar
ATTACH;FMTTYPE=image/jpeg:https://ccpsl.lk/wp-content/uploads/2024/12/ed4f3334-61de-4ded-a6c9-962b5858ad1c.jpg
ORGANIZER;CN="College of Community Physicians of Sri Lanka":MAILTO:secretaryccpsl@gmail.com
END:VEVENT
BEGIN:VEVENT
DTSTART;TZID=Asia/Colombo:20240126T123000
DTEND;TZID=Asia/Colombo:20240126T123000
DTSTAMP:20260424T100125
CREATED:20241229T185250Z
LAST-MODIFIED:20241229T185250Z
UID:6422-1706272200-1706272200@ccpsl.lk
SUMMARY:The effect of early and systematic integration of palliative care in oncology on quality of life and health care use near the end of life: A randomised controlled trial
DESCRIPTION:
URL:https://ccpsl.lk/event/the-effect-of-early-and-systematic-integration-of-palliative-care-in-oncology-on-quality-of-life-and-health-care-use-near-the-end-of-life-a-randomised-controlled-trial/
LOCATION:Online\, Sri Lanka
CATEGORIES:Journal Club
ATTACH;FMTTYPE=image/jpeg:https://ccpsl.lk/wp-content/uploads/2024/12/Journal-Club-26-01-2024.jpg
ORGANIZER;CN="College of Community Physicians of Sri Lanka":MAILTO:secretaryccpsl@gmail.com
END:VEVENT
BEGIN:VEVENT
DTSTART;TZID=Asia/Colombo:20240130T123000
DTEND;TZID=Asia/Colombo:20240130T131500
DTSTAMP:20260424T100125
CREATED:20241229T182220Z
LAST-MODIFIED:20241229T182220Z
UID:6379-1706617800-1706620500@ccpsl.lk
SUMMARY:Unveiling the spectrum of cancer combat
DESCRIPTION:
URL:https://ccpsl.lk/event/unveiling-the-spectrum-of-cancer-combat/
LOCATION:Online\, Sri Lanka
CATEGORIES:Young Community Physicians Forum
ATTACH;FMTTYPE=image/jpeg:https://ccpsl.lk/wp-content/uploads/2024/12/IMG-20240129-WA0002.jpg
ORGANIZER;CN="College of Community Physicians of Sri Lanka":MAILTO:secretaryccpsl@gmail.com
END:VEVENT
END:VCALENDAR